BEGIN:VCALENDAR
VERSION:2.0
PRODID:-//Convergence Point Apostolic Hub - ECPv6.15.20//NONSGML v1.0//EN
CALSCALE:GREGORIAN
METHOD:PUBLISH
X-WR-CALNAME:Convergence Point Apostolic Hub
X-ORIGINAL-URL:https://cpapostolichub.org
X-WR-CALDESC:Events for Convergence Point Apostolic Hub
REFRESH-INTERVAL;VALUE=DURATION:PT1H
X-Robots-Tag:noindex
X-PUBLISHED-TTL:PT1H
BEGIN:VTIMEZONE
TZID:America/Chicago
BEGIN:DAYLIGHT
TZOFFSETFROM:-0600
TZOFFSETTO:-0500
TZNAME:CDT
DTSTART:20230312T080000
END:DAYLIGHT
BEGIN:STANDARD
TZOFFSETFROM:-0500
TZOFFSETTO:-0600
TZNAME:CST
DTSTART:20231105T070000
END:STANDARD
BEGIN:DAYLIGHT
TZOFFSETFROM:-0600
TZOFFSETTO:-0500
TZNAME:CDT
DTSTART:20240310T080000
END:DAYLIGHT
BEGIN:STANDARD
TZOFFSETFROM:-0500
TZOFFSETTO:-0600
TZNAME:CST
DTSTART:20241103T070000
END:STANDARD
BEGIN:DAYLIGHT
TZOFFSETFROM:-0600
TZOFFSETTO:-0500
TZNAME:CDT
DTSTART:20250309T080000
END:DAYLIGHT
BEGIN:STANDARD
TZOFFSETFROM:-0500
TZOFFSETTO:-0600
TZNAME:CST
DTSTART:20251102T070000
END:STANDARD
END:VTIMEZONE
BEGIN:VEVENT
DTSTART;TZID=America/Chicago:20240905T183000
DTEND;TZID=America/Chicago:20240905T203000
DTSTAMP:20260425T143948
CREATED:20240718T225709Z
LAST-MODIFIED:20240718T225709Z
UID:22997-1725561000-1725568200@cpapostolichub.org
SUMMARY:Hub School Spiritual Warfare 101
DESCRIPTION:Classes 1-4 \nTeacher Jess Gjerstad \nClasses can be taken for diploma. sign up on line (see our tab for Hub School) or you can audit for free. We will be doing a live FB.
URL:https://cpapostolichub.org/event/hub-school-spiritual-warfare-101/
LOCATION:Convergence Point\, 4216 S Hocker Ave\,\, MO\, Independence\, MO\, 64055\, United States
CATEGORIES:Hub School Class
END:VEVENT
END:VCALENDAR