BEGIN:VCALENDAR
VERSION:2.0
PRODID:-//Convergence Point Apostolic Hub - ECPv6.15.20//NONSGML v1.0//EN
CALSCALE:GREGORIAN
METHOD:PUBLISH
X-ORIGINAL-URL:https://cpapostolichub.org
X-WR-CALDESC:Events for Convergence Point Apostolic Hub
REFRESH-INTERVAL;VALUE=DURATION:PT1H
X-Robots-Tag:noindex
X-PUBLISHED-TTL:PT1H
BEGIN:VTIMEZONE
TZID:UTC
BEGIN:STANDARD
TZOFFSETFROM:+0000
TZOFFSETTO:+0000
TZNAME:UTC
DTSTART:20230101T000000
END:STANDARD
END:VTIMEZONE
BEGIN:VEVENT
DTSTART;TZID=UTC:20241002T183000
DTEND;TZID=UTC:20241002T210000
DTSTAMP:20260425T011910
CREATED:20240924T154635Z
LAST-MODIFIED:20240924T172201Z
UID:23724-1727893800-1727902800@cpapostolichub.org
SUMMARY:Teachers Appreciation Dinner @ CP
DESCRIPTION:A special dinner and evening to honor our Hub School Teachers! Hosted by Dan & Shelley Lowery
URL:https://cpapostolichub.org/event/teachers-appreciation-dinner-the-lowerys-630pm/
LOCATION:Convergence Point\, 4216 S Hocker Ave\,\, MO\, Independence\, MO\, 64055\, United States
END:VEVENT
END:VCALENDAR