BEGIN:VCALENDAR
VERSION:2.0
PRODID:-//Convergence Point Apostolic Hub - ECPv6.15.20//NONSGML v1.0//EN
CALSCALE:GREGORIAN
METHOD:PUBLISH
X-ORIGINAL-URL:https://cpapostolichub.org
X-WR-CALDESC:Events for Convergence Point Apostolic Hub
REFRESH-INTERVAL;VALUE=DURATION:PT1H
X-Robots-Tag:noindex
X-PUBLISHED-TTL:PT1H
BEGIN:VTIMEZONE
TZID:UTC
BEGIN:STANDARD
TZOFFSETFROM:+0000
TZOFFSETTO:+0000
TZNAME:UTC
DTSTART:20230101T000000
END:STANDARD
END:VTIMEZONE
BEGIN:VEVENT
DTSTART;VALUE=DATE:20241101
DTEND;VALUE=DATE:20241103
DTSTAMP:20260424T233339
CREATED:20241008T185734Z
LAST-MODIFIED:20241008T185734Z
UID:23824-1730419200-1730591999@cpapostolichub.org
SUMMARY:Apostolic Training Team to Iowa
DESCRIPTION:Please keep this team in your prayers for safe travels\, wisdom & revelation\, igniting a Holy fire and apostolic synergy in working together!
URL:https://cpapostolichub.org/event/apostolic-training-team-to-iowa-2/
LOCATION:Convergence Point\, 4216 S Hocker Ave\,\, MO\, Independence\, MO\, 64055\, United States
CATEGORIES:Missions
END:VEVENT
END:VCALENDAR