BEGIN:VCALENDAR
VERSION:2.0
PRODID:-//Convergence Point Apostolic Hub - ECPv6.15.20//NONSGML v1.0//EN
CALSCALE:GREGORIAN
METHOD:PUBLISH
X-ORIGINAL-URL:https://cpapostolichub.org
X-WR-CALDESC:Events for Convergence Point Apostolic Hub
REFRESH-INTERVAL;VALUE=DURATION:PT1H
X-Robots-Tag:noindex
X-PUBLISHED-TTL:PT1H
BEGIN:VTIMEZONE
TZID:UTC
BEGIN:STANDARD
TZOFFSETFROM:+0000
TZOFFSETTO:+0000
TZNAME:UTC
DTSTART:20230101T000000
END:STANDARD
END:VTIMEZONE
BEGIN:VEVENT
DTSTART;TZID=UTC:20241206T183000
DTEND;TZID=UTC:20241206T210000
DTSTAMP:20260424T233345
CREATED:20241010T165003Z
LAST-MODIFIED:20241114T174147Z
UID:23844-1733509800-1733518800@cpapostolichub.org
SUMMARY:Prophetic Service @ The Ark- Jefferson City
DESCRIPTION:Shelley Lowery will be speaking Friday night. Stay over Saturday and pray over the land around the Capital in the morning. Saturday morning at 10am \nThe Ark \n1015 Northeast Drive \nJefferson City\, MO 65109
URL:https://cpapostolichub.org/event/special-summit/
LOCATION:Convergence Point\, 4216 S Hocker Ave\,\, MO\, Independence\, MO\, 64055\, United States
CATEGORIES:Service
END:VEVENT
END:VCALENDAR