BEGIN:VCALENDAR
VERSION:2.0
PRODID:-//Convergence Point Apostolic Hub - ECPv6.15.20//NONSGML v1.0//EN
CALSCALE:GREGORIAN
METHOD:PUBLISH
X-ORIGINAL-URL:https://cpapostolichub.org
X-WR-CALDESC:Events for Convergence Point Apostolic Hub
REFRESH-INTERVAL;VALUE=DURATION:PT1H
X-Robots-Tag:noindex
X-PUBLISHED-TTL:PT1H
BEGIN:VTIMEZONE
TZID:UTC
BEGIN:STANDARD
TZOFFSETFROM:+0000
TZOFFSETTO:+0000
TZNAME:UTC
DTSTART:20240101T000000
END:STANDARD
END:VTIMEZONE
BEGIN:VEVENT
DTSTART;TZID=UTC:20250413T100000
DTEND;TZID=UTC:20250413T120000
DTSTAMP:20260424T170222
CREATED:20250306T165727Z
LAST-MODIFIED:20250306T165727Z
UID:24270-1744538400-1744545600@cpapostolichub.org
SUMMARY:Palm Sunday Service @ Uptown Market 10 am
DESCRIPTION:Join us for a Palm Sunday Service at the Independence Upton Market! 10am. This will take the place of our normal service @1:30pm at Convergence Point. \nUptown Market \n211 W. Truman Rd. \nIndependence\, MO \n 
URL:https://cpapostolichub.org/event/palm-sunday-service-uptown-market-10-am/
LOCATION:211 W. Truman Rd. Independence\, MO\, United States
CATEGORIES:Service,Special Event
END:VEVENT
END:VCALENDAR