BEGIN:VCALENDAR
VERSION:2.0
PRODID:-//Convergence Point Apostolic Hub - ECPv6.15.20//NONSGML v1.0//EN
CALSCALE:GREGORIAN
METHOD:PUBLISH
X-WR-CALNAME:Convergence Point Apostolic Hub
X-ORIGINAL-URL:https://cpapostolichub.org
X-WR-CALDESC:Events for Convergence Point Apostolic Hub
REFRESH-INTERVAL;VALUE=DURATION:PT1H
X-Robots-Tag:noindex
X-PUBLISHED-TTL:PT1H
BEGIN:VTIMEZONE
TZID:UTC
BEGIN:STANDARD
TZOFFSETFROM:+0000
TZOFFSETTO:+0000
TZNAME:UTC
DTSTART:20240101T000000
END:STANDARD
END:VTIMEZONE
BEGIN:VEVENT
DTSTART;VALUE=DATE:20250423
DTEND;VALUE=DATE:20250427
DTSTAMP:20260424T165923
CREATED:20250306T175107Z
LAST-MODIFIED:20250306T175107Z
UID:24285-1745366400-1745711999@cpapostolichub.org
SUMMARY:Shelley & Team to Global Summit in Pasadena\, Ca.
DESCRIPTION:
URL:https://cpapostolichub.org/event/shelley-team-to-global-summit-in-pasadena-ca/
LOCATION:Convergence Point\, 4216 S Hocker Ave\,\, MO\, Independence\, MO\, 64055\, United States
CATEGORIES:Special Event
END:VEVENT
END:VCALENDAR