BEGIN:VCALENDAR
VERSION:2.0
PRODID:-//Convergence Point Apostolic Hub - ECPv6.15.20//NONSGML v1.0//EN
CALSCALE:GREGORIAN
METHOD:PUBLISH
X-WR-CALNAME:Convergence Point Apostolic Hub
X-ORIGINAL-URL:https://cpapostolichub.org
X-WR-CALDESC:Events for Convergence Point Apostolic Hub
REFRESH-INTERVAL;VALUE=DURATION:PT1H
X-Robots-Tag:noindex
X-PUBLISHED-TTL:PT1H
BEGIN:VTIMEZONE
TZID:UTC
BEGIN:STANDARD
TZOFFSETFROM:+0000
TZOFFSETTO:+0000
TZNAME:UTC
DTSTART:20240101T000000
END:STANDARD
END:VTIMEZONE
BEGIN:VEVENT
DTSTART;TZID=UTC:20250411T183000
DTEND;TZID=UTC:20250411T210000
DTSTAMP:20260425T131621
CREATED:20250306T172330Z
LAST-MODIFIED:20250320T164032Z
UID:24274-1744396200-1744405200@cpapostolichub.org
SUMMARY:She Carries Fire Women's Crusade Uptown Market
DESCRIPTION:Go to www.releasetherunners.com for tickets. \n6pm  Registration & Vendors \n6:30 pm  Session #1
URL:https://cpapostolichub.org/event/she-carries-fire-womens-crusade/
LOCATION:Convergence Point\, 4216 S Hocker Ave\,\, MO\, Independence\, MO\, 64055\, United States
CATEGORIES:Conference
END:VEVENT
BEGIN:VEVENT
DTSTART;TZID=UTC:20250412T090000
DTEND;TZID=UTC:20250412T210000
DTSTAMP:20260425T131621
CREATED:20250306T173346Z
LAST-MODIFIED:20250306T173346Z
UID:24277-1744448400-1744491600@cpapostolichub.org
SUMMARY:She Carries Fire Women's Crusade @ Uptown Market
DESCRIPTION:Get your tickets to this event at: www.releasetherunners.com \nUptown Market \n211 W. Truman Rd. \nIndependence\, MO \n  \nSchedule: \n9am Registration & Vendors \n9:30am Session 1 \n12:30pm Lunch break \n1:30pm Session 2 \n4pm Dinner break \n6:30pm Session 3
URL:https://cpapostolichub.org/event/she-carries-fire-womens-crusade-uptown-market/
LOCATION:211 W. Truman Rd. Independence\, MO\, United States
CATEGORIES:Conference
END:VEVENT
END:VCALENDAR