BEGIN:VCALENDAR
VERSION:2.0
PRODID:-//Convergence Point Apostolic Hub - ECPv6.15.20//NONSGML v1.0//EN
CALSCALE:GREGORIAN
METHOD:PUBLISH
X-ORIGINAL-URL:https://cpapostolichub.org
X-WR-CALDESC:Events for Convergence Point Apostolic Hub
REFRESH-INTERVAL;VALUE=DURATION:PT1H
X-Robots-Tag:noindex
X-PUBLISHED-TTL:PT1H
BEGIN:VTIMEZONE
TZID:UTC
BEGIN:STANDARD
TZOFFSETFROM:+0000
TZOFFSETTO:+0000
TZNAME:UTC
DTSTART:20230101T000000
END:STANDARD
END:VTIMEZONE
BEGIN:VEVENT
DTSTART;TZID=UTC:20250404T183000
DTEND;TZID=UTC:20250404T210000
DTSTAMP:20260424T210416
CREATED:20250306T171218Z
LAST-MODIFIED:20250306T171457Z
UID:24272-1743791400-1743800400@cpapostolichub.org
SUMMARY:Monthly Leadership Meeting @ The Tholen's
DESCRIPTION:See Sue for more information.
URL:https://cpapostolichub.org/event/monthly-leadership-meeting-the-tholens/
LOCATION:Convergence Point\, 4216 S Hocker Ave\,\, MO\, Independence\, MO\, 64055\, United States
CATEGORIES:Leadership
END:VEVENT
BEGIN:VEVENT
DTSTART;TZID=UTC:20250312T183000
DTEND;TZID=UTC:20250312T210000
DTSTAMP:20260424T210416
CREATED:20250116T184905Z
LAST-MODIFIED:20250227T190340Z
UID:24113-1741804200-1741813200@cpapostolichub.org
SUMMARY:Leadership Monthly Meeting - zoom
DESCRIPTION:
URL:https://cpapostolichub.org/event/leadership-monthly-meeting-wilcutts/
LOCATION:Convergence Point\, 4216 S Hocker Ave\,\, MO\, Independence\, MO\, 64055\, United States
CATEGORIES:Leadership
END:VEVENT
BEGIN:VEVENT
DTSTART;VALUE=DATE:20241220
DTEND;VALUE=DATE:20241221
DTSTAMP:20260424T210416
CREATED:20241010T163840Z
LAST-MODIFIED:20241022T172800Z
UID:23840-1734652800-1734739199@cpapostolichub.org
SUMMARY:FULL LEADERSHIP CHRISTMAS DINNER
DESCRIPTION:Time and place to be announced.
URL:https://cpapostolichub.org/event/full-leadership-christmas-dinner/
LOCATION:Convergence Point\, 4216 S Hocker Ave\,\, MO\, Independence\, MO\, 64055\, United States
CATEGORIES:Leadership
END:VEVENT
END:VCALENDAR