BEGIN:VCALENDAR
VERSION:2.0
PRODID:-//Convergence Point Apostolic Hub - ECPv6.15.20//NONSGML v1.0//EN
CALSCALE:GREGORIAN
METHOD:PUBLISH
X-ORIGINAL-URL:https://cpapostolichub.org
X-WR-CALDESC:Events for Convergence Point Apostolic Hub
REFRESH-INTERVAL;VALUE=DURATION:PT1H
X-Robots-Tag:noindex
X-PUBLISHED-TTL:PT1H
BEGIN:VTIMEZONE
TZID:America/Chicago
BEGIN:DAYLIGHT
TZOFFSETFROM:-0600
TZOFFSETTO:-0500
TZNAME:CDT
DTSTART:20230312T080000
END:DAYLIGHT
BEGIN:STANDARD
TZOFFSETFROM:-0500
TZOFFSETTO:-0600
TZNAME:CST
DTSTART:20231105T070000
END:STANDARD
BEGIN:DAYLIGHT
TZOFFSETFROM:-0600
TZOFFSETTO:-0500
TZNAME:CDT
DTSTART:20240310T080000
END:DAYLIGHT
BEGIN:STANDARD
TZOFFSETFROM:-0500
TZOFFSETTO:-0600
TZNAME:CST
DTSTART:20241103T070000
END:STANDARD
BEGIN:DAYLIGHT
TZOFFSETFROM:-0600
TZOFFSETTO:-0500
TZNAME:CDT
DTSTART:20250309T080000
END:DAYLIGHT
BEGIN:STANDARD
TZOFFSETFROM:-0500
TZOFFSETTO:-0600
TZNAME:CST
DTSTART:20251102T070000
END:STANDARD
END:VTIMEZONE
BEGIN:VTIMEZONE
TZID:UTC
BEGIN:STANDARD
TZOFFSETFROM:+0000
TZOFFSETTO:+0000
TZNAME:UTC
DTSTART:20230101T000000
END:STANDARD
END:VTIMEZONE
BEGIN:VEVENT
DTSTART;TZID=America/Chicago:20241006T133000
DTEND;TZID=America/Chicago:20241006T153000
DTSTAMP:20260425T042232
CREATED:20240924T153720Z
LAST-MODIFIED:20240924T163331Z
UID:23718-1728221400-1728228600@cpapostolichub.org
SUMMARY:Sunday Service  Prophetic Coaching #4
DESCRIPTION:We are not a church. We are an Apostolic 5-Fold equipping and training center. You are welcome to come and get equipped to become the Ekklesia to be the governing body of Christ in these end times!
URL:https://cpapostolichub.org/event/sunday-service-prophetic-coaching-4/
LOCATION:Convergence Point\, 4216 S Hocker Ave\,\, MO\, Independence\, MO\, 64055\, United States
CATEGORIES:Service
END:VEVENT
BEGIN:VEVENT
DTSTART;TZID=America/Chicago:20241013T133000
DTEND;TZID=America/Chicago:20241013T153000
DTSTAMP:20260425T042232
CREATED:20240924T154008Z
LAST-MODIFIED:20241008T190714Z
UID:23720-1728826200-1728833400@cpapostolichub.org
SUMMARY:Sunday Service  Mandi Windsor-DC overview
DESCRIPTION:We are not a church. We are an Apostolic 5-Fold equipping and training center. You are welcome to come and get equipped to become the Ekklesia to be the governing body of Christ in these end times! \nMandi will be covering what is going on at the One Million Voices in DC
URL:https://cpapostolichub.org/event/sunday-service-mandi-windsor-dc/
LOCATION:Convergence Point\, 4216 S Hocker Ave\,\, MO\, Independence\, MO\, 64055\, United States
CATEGORIES:Service
END:VEVENT
BEGIN:VEVENT
DTSTART;TZID=America/Chicago:20241020T133000
DTEND;TZID=America/Chicago:20241020T153000
DTSTAMP:20260425T042232
CREATED:20241008T180410Z
LAST-MODIFIED:20241015T163652Z
UID:23817-1729431000-1729438200@cpapostolichub.org
SUMMARY:Sunday Service- "A Call For Fire " -Jesse Burgoon
DESCRIPTION:Want to get Fired Up?  Don’t miss this Sundays equipping service! \n  \nWe are not a church. We are an Apostolic 5-Fold equipping and training center. You are welcome to come and get equipped to become the Ekklesia to be the governing body of Christ in these end times!
URL:https://cpapostolichub.org/event/intercessors-small-group-3/
LOCATION:Convergence Point\, 4216 S Hocker Ave\,\, MO\, Independence\, MO\, 64055\, United States
CATEGORIES:Service
END:VEVENT
BEGIN:VEVENT
DTSTART;TZID=UTC:20241025T190000
DTEND;TZID=UTC:20241025T220000
DTSTAMP:20260425T042232
CREATED:20240813T180053Z
LAST-MODIFIED:20240924T161918Z
UID:23020-1729882800-1729893600@cpapostolichub.org
SUMMARY:Quarter Night Worship & Prayer for Elections & America
DESCRIPTION:We meet to worship & pray\, decree & declare what the Lord is saying. We will start at 7pm and go to 10pm or more if Holy Spirit is telling us to. You may come and go whenever you would like to\, but please leave quietly as to not interrupt service.  Thank you! \nTonight we will focus on Election and America!  Don’t be left hanging in the balance! Come fill in the gap\, man your post\, exercise your God given right to use the authority He has equipped you with!
URL:https://cpapostolichub.org/event/quarter-night-worship-prayer/
LOCATION:Convergence Point\, 4216 S Hocker Ave\,\, MO\, Independence\, MO\, 64055\, United States
CATEGORIES:Service
END:VEVENT
BEGIN:VEVENT
DTSTART;TZID=America/Chicago:20241027T133000
DTEND;TZID=America/Chicago:20241027T153000
DTSTAMP:20260425T042233
CREATED:20241008T180539Z
LAST-MODIFIED:20241008T180540Z
UID:23819-1730035800-1730043000@cpapostolichub.org
SUMMARY:Sunday Service- "Godly Finances" -Jonathan Windsor
DESCRIPTION:We are not a church. We are an Apostolic 5-Fold equipping and training center. You are welcome to come and get equipped to become the Ekklesia to be the governing body of Christ in these end times!
URL:https://cpapostolichub.org/event/intercessors-small-group-4/
LOCATION:Convergence Point\, 4216 S Hocker Ave\,\, MO\, Independence\, MO\, 64055\, United States
CATEGORIES:Service
END:VEVENT
END:VCALENDAR