BEGIN:VCALENDAR
VERSION:2.0
PRODID:-//Convergence Point Apostolic Hub - ECPv6.15.20//NONSGML v1.0//EN
CALSCALE:GREGORIAN
METHOD:PUBLISH
X-WR-CALNAME:Convergence Point Apostolic Hub
X-ORIGINAL-URL:https://cpapostolichub.org
X-WR-CALDESC:Events for Convergence Point Apostolic Hub
REFRESH-INTERVAL;VALUE=DURATION:PT1H
X-Robots-Tag:noindex
X-PUBLISHED-TTL:PT1H
BEGIN:VTIMEZONE
TZID:UTC
BEGIN:STANDARD
TZOFFSETFROM:+0000
TZOFFSETTO:+0000
TZNAME:UTC
DTSTART:20230101T000000
END:STANDARD
END:VTIMEZONE
BEGIN:VTIMEZONE
TZID:America/Chicago
BEGIN:DAYLIGHT
TZOFFSETFROM:-0600
TZOFFSETTO:-0500
TZNAME:CDT
DTSTART:20230312T080000
END:DAYLIGHT
BEGIN:STANDARD
TZOFFSETFROM:-0500
TZOFFSETTO:-0600
TZNAME:CST
DTSTART:20231105T070000
END:STANDARD
BEGIN:DAYLIGHT
TZOFFSETFROM:-0600
TZOFFSETTO:-0500
TZNAME:CDT
DTSTART:20240310T080000
END:DAYLIGHT
BEGIN:STANDARD
TZOFFSETFROM:-0500
TZOFFSETTO:-0600
TZNAME:CST
DTSTART:20241103T070000
END:STANDARD
BEGIN:DAYLIGHT
TZOFFSETFROM:-0600
TZOFFSETTO:-0500
TZNAME:CDT
DTSTART:20250309T080000
END:DAYLIGHT
BEGIN:STANDARD
TZOFFSETFROM:-0500
TZOFFSETTO:-0600
TZNAME:CST
DTSTART:20251102T070000
END:STANDARD
END:VTIMEZONE
BEGIN:VEVENT
DTSTART;TZID=UTC:20240611T183000
DTEND;TZID=UTC:20240611T203000
DTSTAMP:20260425T104159
CREATED:20240604T160936Z
LAST-MODIFIED:20240905T174252Z
UID:21520-1718130600-1718137800@cpapostolichub.org
SUMMARY:Revival Prayer
DESCRIPTION:A time to come together as a body and decree and declare with the power and authority given to us by God! To establish the kingdom of Heaven on earth as it is in Heaven! All body parts are needed! \nOn September 24th we will be doing an Election Prayer night. Fast & come ready to make some declaration’s\, decrees over this coming election.
URL:https://cpapostolichub.org/event/corporate-prayer/
LOCATION:Convergence Point\, 4216 S Hocker Ave\,\, MO\, Independence\, MO\, 64055\, United States
CATEGORIES:Prayer
END:VEVENT
BEGIN:VEVENT
DTSTART;TZID=UTC:20240718T080000
DTEND;TZID=UTC:20240718T110000
DTSTAMP:20260425T104159
CREATED:20240718T185558Z
LAST-MODIFIED:20240718T185559Z
UID:22935-1721289600-1721300400@cpapostolichub.org
SUMMARY:Soaking Prayer
DESCRIPTION:A time of soaking in prayer\, listening for God’s voice and replenishing the body\, soul\, and spirit! Come and go as it fits your schedule.
URL:https://cpapostolichub.org/event/soaking-prayer-2/
LOCATION:Convergence Point\, 4216 S Hocker Ave\,\, MO\, Independence\, MO\, 64055\, United States
CATEGORIES:Prayer
END:VEVENT
BEGIN:VEVENT
DTSTART;VALUE=DATE:20240726
DTEND;VALUE=DATE:20240729
DTSTAMP:20260425T104159
CREATED:20240718T193312Z
LAST-MODIFIED:20240718T193312Z
UID:22941-1721952000-1722211199@cpapostolichub.org
SUMMARY:3 Day Summit W/ Apostle Anne Tate
DESCRIPTION:Apostle Anne Tate from Glory of Zion will be teaching on God’s Threshold! \nFriday @ 6:30pm \nSaturday at 9am to Noon \nSunday at 1:30pm
URL:https://cpapostolichub.org/event/3-day-summit-w-apostle-anne-tate/
LOCATION:Convergence Point\, 4216 S Hocker Ave\,\, MO\, Independence\, MO\, 64055\, United States
CATEGORIES:Summit
END:VEVENT
BEGIN:VEVENT
DTSTART;TZID=America/Chicago:20240725T183000
DTEND;TZID=America/Chicago:20240725T203000
DTSTAMP:20260425T104200
CREATED:20240604T171629Z
LAST-MODIFIED:20240718T172851Z
UID:21545-1721932200-1721939400@cpapostolichub.org
SUMMARY:Intercessors Small Group
DESCRIPTION:Gather together in small groups for faith\, purpose\, and fellowship. Small groups will gather for the summer months- June thru August every other Thursday evening.
URL:https://cpapostolichub.org/event/intercessors-small-group-2/
LOCATION:The Ritter’s House\, 522 SE Vista Dr\, Lees Summit\, 64063\, United States
CATEGORIES:Small Groups
END:VEVENT
BEGIN:VEVENT
DTSTART;TZID=UTC:20240718T080000
DTEND;TZID=UTC:20240718T110000
DTSTAMP:20260425T104200
CREATED:20240718T185558Z
LAST-MODIFIED:20240718T185559Z
UID:22935-1721289600-1721300400@cpapostolichub.org
SUMMARY:Soaking Prayer
DESCRIPTION:A time of soaking in prayer\, listening for God’s voice and replenishing the body\, soul\, and spirit! Come and go as it fits your schedule.
URL:https://cpapostolichub.org/event/soaking-prayer-2/
LOCATION:Convergence Point\, 4216 S Hocker Ave\,\, MO\, Independence\, MO\, 64055\, United States
CATEGORIES:Prayer
END:VEVENT
BEGIN:VEVENT
DTSTART;TZID=UTC:20240718T080000
DTEND;TZID=UTC:20240718T110000
DTSTAMP:20260425T104200
CREATED:20240718T185558Z
LAST-MODIFIED:20240718T185559Z
UID:22935-1721289600-1721300400@cpapostolichub.org
SUMMARY:Soaking Prayer
DESCRIPTION:A time of soaking in prayer\, listening for God’s voice and replenishing the body\, soul\, and spirit! Come and go as it fits your schedule.
URL:https://cpapostolichub.org/event/soaking-prayer-2/
LOCATION:Convergence Point\, 4216 S Hocker Ave\,\, MO\, Independence\, MO\, 64055\, United States
CATEGORIES:Prayer
END:VEVENT
BEGIN:VEVENT
DTSTART;TZID=UTC:20240611T183000
DTEND;TZID=UTC:20240611T203000
DTSTAMP:20260425T104200
CREATED:20240604T160936Z
LAST-MODIFIED:20240905T174252Z
UID:21520-1718130600-1718137800@cpapostolichub.org
SUMMARY:Revival Prayer
DESCRIPTION:A time to come together as a body and decree and declare with the power and authority given to us by God! To establish the kingdom of Heaven on earth as it is in Heaven! All body parts are needed! \nOn September 24th we will be doing an Election Prayer night. Fast & come ready to make some declaration’s\, decrees over this coming election.
URL:https://cpapostolichub.org/event/corporate-prayer/
LOCATION:Convergence Point\, 4216 S Hocker Ave\,\, MO\, Independence\, MO\, 64055\, United States
CATEGORIES:Prayer
END:VEVENT
BEGIN:VEVENT
DTSTART;TZID=UTC:20240718T080000
DTEND;TZID=UTC:20240718T110000
DTSTAMP:20260425T104200
CREATED:20240718T185558Z
LAST-MODIFIED:20240718T185559Z
UID:22935-1721289600-1721300400@cpapostolichub.org
SUMMARY:Soaking Prayer
DESCRIPTION:A time of soaking in prayer\, listening for God’s voice and replenishing the body\, soul\, and spirit! Come and go as it fits your schedule.
URL:https://cpapostolichub.org/event/soaking-prayer-2/
LOCATION:Convergence Point\, 4216 S Hocker Ave\,\, MO\, Independence\, MO\, 64055\, United States
CATEGORIES:Prayer
END:VEVENT
BEGIN:VEVENT
DTSTART;TZID=UTC:20240721T133000
DTEND;TZID=UTC:20240721T153000
DTSTAMP:20260425T104200
CREATED:20240718T184340Z
LAST-MODIFIED:20240718T201833Z
UID:22930-1721568600-1721575800@cpapostolichub.org
SUMMARY:The spirit of Jezebel
DESCRIPTION:We will be teaching a series of teachings coming up on the 5 insidious spirits that have marked the 5-Fold for destruction and what you can do about it! This Sundays teaching is on Jezebel.
URL:https://cpapostolichub.org/event/the-warrior-bride/
LOCATION:Convergence Point\, 4216 S Hocker Ave\,\, MO\, Independence\, MO\, 64055\, United States
CATEGORIES:Service
END:VEVENT
BEGIN:VEVENT
DTSTART;TZID=UTC:20240718T183000
DTEND;TZID=UTC:20240718T203000
DTSTAMP:20260425T104200
CREATED:20240718T173504Z
LAST-MODIFIED:20240718T182846Z
UID:22920-1721327400-1721334600@cpapostolichub.org
SUMMARY:Prophecy Small Group
DESCRIPTION:Want to know more about the prophetic? Want to steward that gift? Come join us. This isn’t a teaching\, it’s a round table discussion.  Meets every other Thursday evening in June thru August. This small group will meet at Convergence Point Apostolic Hub.
URL:https://cpapostolichub.org/event/prophecy-small-group/
LOCATION:Convergence Point\, 4216 S Hocker Ave\,\, MO\, Independence\, MO\, 64055\, United States
CATEGORIES:Small Groups
END:VEVENT
BEGIN:VEVENT
DTSTART;TZID=UTC:20240718T080000
DTEND;TZID=UTC:20240718T110000
DTSTAMP:20260425T104200
CREATED:20240718T185558Z
LAST-MODIFIED:20240718T185559Z
UID:22935-1721289600-1721300400@cpapostolichub.org
SUMMARY:Soaking Prayer
DESCRIPTION:A time of soaking in prayer\, listening for God’s voice and replenishing the body\, soul\, and spirit! Come and go as it fits your schedule.
URL:https://cpapostolichub.org/event/soaking-prayer-2/
LOCATION:Convergence Point\, 4216 S Hocker Ave\,\, MO\, Independence\, MO\, 64055\, United States
CATEGORIES:Prayer
END:VEVENT
BEGIN:VEVENT
DTSTART;TZID=UTC:20240611T183000
DTEND;TZID=UTC:20240611T203000
DTSTAMP:20260425T104200
CREATED:20240604T160936Z
LAST-MODIFIED:20240905T174252Z
UID:21520-1718130600-1718137800@cpapostolichub.org
SUMMARY:Revival Prayer
DESCRIPTION:A time to come together as a body and decree and declare with the power and authority given to us by God! To establish the kingdom of Heaven on earth as it is in Heaven! All body parts are needed! \nOn September 24th we will be doing an Election Prayer night. Fast & come ready to make some declaration’s\, decrees over this coming election.
URL:https://cpapostolichub.org/event/corporate-prayer/
LOCATION:Convergence Point\, 4216 S Hocker Ave\,\, MO\, Independence\, MO\, 64055\, United States
CATEGORIES:Prayer
END:VEVENT
BEGIN:VEVENT
DTSTART;VALUE=DATE:20240712
DTEND;VALUE=DATE:20240714
DTSTAMP:20260425T104200
CREATED:20240709T212537Z
LAST-MODIFIED:20240709T212537Z
UID:22896-1720742400-1720915199@cpapostolichub.org
SUMMARY:Gathering of the Mavericks
DESCRIPTION:To register: https://citygate.app.neoncrm.com/np/clients/citygate/eventRegistration.jsp?event=37 \nSchedule: \nJuly 12th 7pm \nJuly 13th 9am \nAfter carrying the “Gathering the Mavericks” dream in prayer and having an encounter with\nHoly Spirit in September 2023 while I was in Sioux Falls\, South Dakota I have come into some\nunderstanding. We will launch the Oregon Trail Gathering of Mavericks in Oregon City\, Oregon\non June 21. We will travel along the Oregon Trail from Oregon City to Baker City\, Oregon June\n26\, then on to Boise\, Idaho June 28 & 29. This stop in Boise\, Idaho will double as a Josiah\nCompany Convocation. From Boise we will travel on to Soda Springs\, Idaho for a gathering on\nJuly 2. Then we will move on to Casper\, Wyoming to host a meeting July 5-6. Kearney\, Nebraska\nwill be our next stop on July 10. From there we will finish at our seventh and final stop in\nIndependence\, Missouri July 12-13. \nYou may wonder\, “What is the purpose?” Each of these gathering places will function as\nlegislative assemblies. Petitions\, prayers\, declarations\, and decrees will be made by those that\nassemble. Appeals to Heaven will be our cry\, and decrees from Heaven into the earth will be\nour focus. \nIn a recent dream the Justice Gate angel said that in the past\, as people who loved God traveled\nthis harsh and trying trail\, they made petitions\, declarations and decrees. There were prophetic\nutterances made and innocent blood shed. The Justice Gate Angel stated that many of the\nprayers and the prophetic words would now be refreshed and activated. Then someone sent\nme a word that all along the Oregon Trail there were angels on reserve and this campaign\nwould launch them into active service for the nation. The unbranded ones (Mavericks) will find\ntheir companies and become “burning ones” for God’s Glory. Those who have refused to\nbranded by religion of man will receive fresh commissioning of purpose and destiny. Their\njourney to Independence will activate them at a greater level of authority\, releasing the roar of\nGod into their spheres of influence. These refreshed and commissioned Mavericks will take\ntheir independence forth to affect the nation with signs and wonders following them. Their\nobedience will leaven with a righteous leaven\, new companies of overcomers activated from\ntheir completed faith to become an ever-present weapon of warfare against injustice\, releasing\nrighteousness and empowering grace. Based on a recent prophetic word many will receive a\nwhite stone with a new name written on it that only they know. \nI hope at this point you are asking\, “how can I become involved? What can I do to become a\npart?” Well\, understand we must keep first things first – Pray. Pray for each location. Pray for\neach person attending. Pray for each legislative assembly. Pray the Mavericks come out to\nassemble. Then pray and ask God\, are you to engage by attending one\, some\, or all of these\ngatherings. You can also pray about partnering with us financially. You are needed\, you are a\npart\, and this will be life changing. \nI hope this enlightens you\, draws you\, and engages you to be a part of this journey. If you have\nquestions\, look on our website. If you don’t find answers there\, write us an email. \nBlessings\,\nClay Nash
URL:https://cpapostolichub.org/event/gathering-of-the-mavericks/
LOCATION:Hilton Garden 19677 E Jackson Dr Independence\, MO 64057\, Hilton Garden 19677 E Jackson Dr\, MO\, Independence\, 64057\, United States
END:VEVENT
BEGIN:VEVENT
DTSTART;TZID=UTC:20240611T183000
DTEND;TZID=UTC:20240611T203000
DTSTAMP:20260425T104200
CREATED:20240604T160936Z
LAST-MODIFIED:20240905T174252Z
UID:21520-1718130600-1718137800@cpapostolichub.org
SUMMARY:Revival Prayer
DESCRIPTION:A time to come together as a body and decree and declare with the power and authority given to us by God! To establish the kingdom of Heaven on earth as it is in Heaven! All body parts are needed! \nOn September 24th we will be doing an Election Prayer night. Fast & come ready to make some declaration’s\, decrees over this coming election.
URL:https://cpapostolichub.org/event/corporate-prayer/
LOCATION:Convergence Point\, 4216 S Hocker Ave\,\, MO\, Independence\, MO\, 64055\, United States
CATEGORIES:Prayer
END:VEVENT
BEGIN:VEVENT
DTSTART;TZID=UTC:20240611T183000
DTEND;TZID=UTC:20240611T203000
DTSTAMP:20260425T104200
CREATED:20240604T160936Z
LAST-MODIFIED:20240905T174252Z
UID:21520-1718130600-1718137800@cpapostolichub.org
SUMMARY:Revival Prayer
DESCRIPTION:A time to come together as a body and decree and declare with the power and authority given to us by God! To establish the kingdom of Heaven on earth as it is in Heaven! All body parts are needed! \nOn September 24th we will be doing an Election Prayer night. Fast & come ready to make some declaration’s\, decrees over this coming election.
URL:https://cpapostolichub.org/event/corporate-prayer/
LOCATION:Convergence Point\, 4216 S Hocker Ave\,\, MO\, Independence\, MO\, 64055\, United States
CATEGORIES:Prayer
END:VEVENT
BEGIN:VEVENT
DTSTART;TZID=UTC:20240611T183000
DTEND;TZID=UTC:20240611T203000
DTSTAMP:20260425T104200
CREATED:20240604T160936Z
LAST-MODIFIED:20240905T174252Z
UID:21520-1718130600-1718137800@cpapostolichub.org
SUMMARY:Revival Prayer
DESCRIPTION:A time to come together as a body and decree and declare with the power and authority given to us by God! To establish the kingdom of Heaven on earth as it is in Heaven! All body parts are needed! \nOn September 24th we will be doing an Election Prayer night. Fast & come ready to make some declaration’s\, decrees over this coming election.
URL:https://cpapostolichub.org/event/corporate-prayer/
LOCATION:Convergence Point\, 4216 S Hocker Ave\,\, MO\, Independence\, MO\, 64055\, United States
CATEGORIES:Prayer
END:VEVENT
BEGIN:VEVENT
DTSTART;TZID=UTC:20240611T183000
DTEND;TZID=UTC:20240611T203000
DTSTAMP:20260425T104200
CREATED:20240604T160936Z
LAST-MODIFIED:20240905T174252Z
UID:21520-1718130600-1718137800@cpapostolichub.org
SUMMARY:Revival Prayer
DESCRIPTION:A time to come together as a body and decree and declare with the power and authority given to us by God! To establish the kingdom of Heaven on earth as it is in Heaven! All body parts are needed! \nOn September 24th we will be doing an Election Prayer night. Fast & come ready to make some declaration’s\, decrees over this coming election.
URL:https://cpapostolichub.org/event/corporate-prayer/
LOCATION:Convergence Point\, 4216 S Hocker Ave\,\, MO\, Independence\, MO\, 64055\, United States
CATEGORIES:Prayer
END:VEVENT
BEGIN:VEVENT
DTSTART;VALUE=DATE:20240616
DTEND;VALUE=DATE:20240617
DTSTAMP:20260425T104200
CREATED:20240604T163850Z
LAST-MODIFIED:20240604T163850Z
UID:21535-1718496000-1718582399@cpapostolichub.org
SUMMARY:NO SERVICE TODAY - FATHER'S DAY
DESCRIPTION:
URL:https://cpapostolichub.org/event/no-service-today-fathers-day/
LOCATION:Convergence Point\, 4216 S Hocker Ave\,\, MO\, Independence\, MO\, 64055\, United States
END:VEVENT
BEGIN:VEVENT
DTSTART;TZID=UTC:20240611T183000
DTEND;TZID=UTC:20240611T203000
DTSTAMP:20260425T104200
CREATED:20240604T160936Z
LAST-MODIFIED:20240905T174252Z
UID:21520-1718130600-1718137800@cpapostolichub.org
SUMMARY:Revival Prayer
DESCRIPTION:A time to come together as a body and decree and declare with the power and authority given to us by God! To establish the kingdom of Heaven on earth as it is in Heaven! All body parts are needed! \nOn September 24th we will be doing an Election Prayer night. Fast & come ready to make some declaration’s\, decrees over this coming election.
URL:https://cpapostolichub.org/event/corporate-prayer/
LOCATION:Convergence Point\, 4216 S Hocker Ave\,\, MO\, Independence\, MO\, 64055\, United States
CATEGORIES:Prayer
END:VEVENT
END:VCALENDAR