BEGIN:VCALENDAR
VERSION:2.0
PRODID:-//Convergence Point Apostolic Hub - ECPv6.15.20//NONSGML v1.0//EN
CALSCALE:GREGORIAN
METHOD:PUBLISH
X-WR-CALNAME:Convergence Point Apostolic Hub
X-ORIGINAL-URL:https://cpapostolichub.org
X-WR-CALDESC:Events for Convergence Point Apostolic Hub
REFRESH-INTERVAL;VALUE=DURATION:PT1H
X-Robots-Tag:noindex
X-PUBLISHED-TTL:PT1H
BEGIN:VTIMEZONE
TZID:UTC
BEGIN:STANDARD
TZOFFSETFROM:+0000
TZOFFSETTO:+0000
TZNAME:UTC
DTSTART:20230101T000000
END:STANDARD
END:VTIMEZONE
BEGIN:VEVENT
DTSTART;TZID=UTC:20241225T180000
DTEND;TZID=UTC:20241225T200000
DTSTAMP:20260425T134947
CREATED:20240718T224014Z
LAST-MODIFIED:20241114T174623Z
UID:22993-1735149600-1735156800@cpapostolichub.org
SUMMARY:No RTRKC Tonight Merry Christmas
DESCRIPTION:NO MEETING TONIGHT MERRY CHRISTMAS!
URL:https://cpapostolichub.org/event/rtrkc/
LOCATION:Convergence Point\, 4216 S Hocker Ave\,\, MO\, Independence\, MO\, 64055\, United States
CATEGORIES:Bible Study
END:VEVENT
BEGIN:VEVENT
DTSTART;TZID=UTC:20241212T183000
DTEND;TZID=UTC:20241212T203000
DTSTAMP:20260425T134947
CREATED:20241010T165610Z
LAST-MODIFIED:20241105T181244Z
UID:23846-1734028200-1734035400@cpapostolichub.org
SUMMARY:NO HUB SCHOOL
DESCRIPTION:We take the month of December off from Hub School. There is a Summit December 6th – 8th you can use as a course choice instead of taking a class. See Summit on calendar. See Sherrie if you are going to do this so you can get credit for the class of your choice.
URL:https://cpapostolichub.org/event/no-hub-school/
LOCATION:Convergence Point\, 4216 S Hocker Ave\,\, MO\, Independence\, MO\, 64055\, United States
CATEGORIES:Hub School Class
END:VEVENT
BEGIN:VEVENT
DTSTART;VALUE=DATE:20250101
DTEND;VALUE=DATE:20250113
DTSTAMP:20260425T134947
CREATED:20240617T225007Z
LAST-MODIFIED:20241010T162333Z
UID:22580-1735689600-1736726399@cpapostolichub.org
SUMMARY:Beginners Peru Missions Trip
DESCRIPTION:Join Us for a God-Adventure! \nDates: January 1-12 \nDetails: This English Immersion Camp is for men and women eager to learn everyday English. The participants include teens and professional adults. \nIf you speak English and love sharing your life in Jesus\, this trip is for you! Spend your days sharing about your life in America while cooking\, eating\, playing games\, singing karaoke\, and conversing to help the students improve their English. And at every opportunity\, you can share your faith! \nHow to register: Email cpapostolichub@gmail.com requesting more information \nConvergence Point Apostolic Hub\nwww.beyondmyborders.org
URL:https://cpapostolichub.org/event/peru-missions-trip/
LOCATION:Peru
CATEGORIES:Missions
END:VEVENT
BEGIN:VEVENT
DTSTART;VALUE=DATE:20250109
DTEND;VALUE=DATE:20250122
DTSTAMP:20260425T134947
CREATED:20240617T225301Z
LAST-MODIFIED:20240617T230007Z
UID:22584-1736380800-1737503999@cpapostolichub.org
SUMMARY:Advanced Peru Missions Trip
DESCRIPTION:ADVANCED Peru Mission Trip \nDates: January 9-21 \nMission: This team will minister through prophetic prayer to national leaders from Bolivia and Peru. Additionally\, they will be teaching and activating participants in the Five-Fold Ministry. \nType: Advanced Mission \nHosted by: Convergence Point Apostolic Hub \nHow to register: email cpapostolichub@gmail.com requesting more information
URL:https://cpapostolichub.org/event/advanced-peru-missions-trip/
LOCATION:Peru
CATEGORIES:Missions
END:VEVENT
BEGIN:VEVENT
DTSTART;TZID=UTC:20250109T183000
DTEND;TZID=UTC:20250109T203000
DTSTAMP:20260425T134947
CREATED:20241105T181954Z
LAST-MODIFIED:20241105T181954Z
UID:23884-1736447400-1736454600@cpapostolichub.org
SUMMARY:Hub School- Making Disciples 101 w/ Chris Budke
DESCRIPTION:This class will be a shared teacher class with Chris Budke teaching sessions 1&2 and Mandi Windsor  teaching sessions 3&4
URL:https://cpapostolichub.org/event/hub-school-making-disciples-101-w-chris-budke/
LOCATION:Convergence Point\, 4216 S Hocker Ave\,\, MO\, Independence\, MO\, 64055\, United States
CATEGORIES:Hub School Class
END:VEVENT
BEGIN:VEVENT
DTSTART;TZID=UTC:20250109T183000
DTEND;TZID=UTC:20250109T203000
DTSTAMP:20260425T134947
CREATED:20241105T181954Z
LAST-MODIFIED:20241105T181954Z
UID:23884-1736447400-1736454600@cpapostolichub.org
SUMMARY:Hub School- Making Disciples 101 w/ Chris Budke
DESCRIPTION:This class will be a shared teacher class with Chris Budke teaching sessions 1&2 and Mandi Windsor  teaching sessions 3&4
URL:https://cpapostolichub.org/event/hub-school-making-disciples-101-w-chris-budke/
LOCATION:Convergence Point\, 4216 S Hocker Ave\,\, MO\, Independence\, MO\, 64055\, United States
CATEGORIES:Hub School Class
END:VEVENT
BEGIN:VEVENT
DTSTART;TZID=UTC:20250119T133000
DTEND;TZID=UTC:20250119T153000
DTSTAMP:20260425T134947
CREATED:20250116T185835Z
LAST-MODIFIED:20250116T185837Z
UID:24115-1737293400-1737300600@cpapostolichub.org
SUMMARY:Sunday Service
DESCRIPTION:We are not your typical church. As a matter of fact\, we do not even call ourselves a church. We are an Apostolic 5- Fold equipping and training center. We live cast from Facebook every Sunday unless we are having something special that we don’t cast.  Go to our Facebook page to see who will be speaking each Sunday!   FB Convergence Point \nWe are a: \n\nHouse of Prayer\nEquipping Center\nHealing Center\nMissions Base\n7 Mountain Coop\n\nIf you are looking to effectively carry out the mandate of the gospel\, which Jesus presented in Matthew 10:8 “Heal the sick\, raise the dead\, cure those with leprosy\, and cast out demons. Give as freely as you have received” then you have come to the right place?  Not sure? You are welcome any time to come and find out! \n  \n 
URL:https://cpapostolichub.org/event/sunday-service-3/
LOCATION:Convergence Point\, 4216 S Hocker Ave\,\, MO\, Independence\, MO\, 64055\, United States
CATEGORIES:Service
END:VEVENT
BEGIN:VEVENT
DTSTART;TZID=UTC:20250123T183000
DTEND;TZID=UTC:20250123T203000
DTSTAMP:20260425T134947
CREATED:20241105T182317Z
LAST-MODIFIED:20241105T182317Z
UID:23887-1737657000-1737664200@cpapostolichub.org
SUMMARY:Hub School- Making Disciples 101 w/ Mandi Windsor
DESCRIPTION:This is a 2 teacher class with Chris Budke teaching sessions 1&2 and Mandi Windsor teaching sessions 3&4
URL:https://cpapostolichub.org/event/hub-school-making-disciples-101-w-mandi-windsor/
LOCATION:Convergence Point\, 4216 S Hocker Ave\,\, MO\, Independence\, MO\, 64055\, United States
CATEGORIES:Hub School Class
END:VEVENT
BEGIN:VEVENT
DTSTART;TZID=UTC:20250119T133000
DTEND;TZID=UTC:20250119T153000
DTSTAMP:20260425T134947
CREATED:20250116T185835Z
LAST-MODIFIED:20250116T185837Z
UID:24115-1737293400-1737300600@cpapostolichub.org
SUMMARY:Sunday Service
DESCRIPTION:We are not your typical church. As a matter of fact\, we do not even call ourselves a church. We are an Apostolic 5- Fold equipping and training center. We live cast from Facebook every Sunday unless we are having something special that we don’t cast.  Go to our Facebook page to see who will be speaking each Sunday!   FB Convergence Point \nWe are a: \n\nHouse of Prayer\nEquipping Center\nHealing Center\nMissions Base\n7 Mountain Coop\n\nIf you are looking to effectively carry out the mandate of the gospel\, which Jesus presented in Matthew 10:8 “Heal the sick\, raise the dead\, cure those with leprosy\, and cast out demons. Give as freely as you have received” then you have come to the right place?  Not sure? You are welcome any time to come and find out! \n  \n 
URL:https://cpapostolichub.org/event/sunday-service-3/
LOCATION:Convergence Point\, 4216 S Hocker Ave\,\, MO\, Independence\, MO\, 64055\, United States
CATEGORIES:Service
END:VEVENT
BEGIN:VEVENT
DTSTART;TZID=UTC:20250129T180000
DTEND;TZID=UTC:20250129T200000
DTSTAMP:20260425T134947
CREATED:20241105T170650Z
LAST-MODIFIED:20250116T182628Z
UID:23876-1738173600-1738180800@cpapostolichub.org
SUMMARY:RTRKC  Women's Rally
DESCRIPTION:Gather\, Equip\, Release is what Release the Runners KC is all about. We meet the last Wednesday evening of every month\, 6pm at Convergence Point Apostolic Hub. 4216 Hocker Drive\, Independence\, MO 64055
URL:https://cpapostolichub.org/event/rtrkc-monthly-womens-rally/
LOCATION:Convergence Point\, 4216 S Hocker Ave\,\, MO\, Independence\, MO\, 64055\, United States
CATEGORIES:Bible Study
END:VEVENT
BEGIN:VEVENT
DTSTART;TZID=UTC:20250123T183000
DTEND;TZID=UTC:20250123T203000
DTSTAMP:20260425T134947
CREATED:20241105T182317Z
LAST-MODIFIED:20241105T182317Z
UID:23887-1737657000-1737664200@cpapostolichub.org
SUMMARY:Hub School- Making Disciples 101 w/ Mandi Windsor
DESCRIPTION:This is a 2 teacher class with Chris Budke teaching sessions 1&2 and Mandi Windsor teaching sessions 3&4
URL:https://cpapostolichub.org/event/hub-school-making-disciples-101-w-mandi-windsor/
LOCATION:Convergence Point\, 4216 S Hocker Ave\,\, MO\, Independence\, MO\, 64055\, United States
CATEGORIES:Hub School Class
END:VEVENT
BEGIN:VEVENT
DTSTART;TZID=UTC:20250131T183000
DTEND;TZID=UTC:20250131T210000
DTSTAMP:20260425T134947
CREATED:20250116T183825Z
LAST-MODIFIED:20250116T185448Z
UID:24105-1738348200-1738357200@cpapostolichub.org
SUMMARY:Eden Journey Deliverance Training- sign up & cost required
DESCRIPTION:This is a 3 day training for all those wanting to learn how to do deliverance. It will be a Rhema Trayner facilitated video series. The cost is $50. for more information and to register\, please email Sherrie at cpapostilichub@gmail.com
URL:https://cpapostolichub.org/event/eden-journey-deliverance-training-sign-up-cost-required/
LOCATION:Convergence Point\, 4216 S Hocker Ave\,\, MO\, Independence\, MO\, 64055\, United States
CATEGORIES:Special Event
END:VEVENT
BEGIN:VEVENT
DTSTART;TZID=UTC:20250131T183000
DTEND;TZID=UTC:20250131T210000
DTSTAMP:20260425T134947
CREATED:20250116T183825Z
LAST-MODIFIED:20250116T185448Z
UID:24105-1738348200-1738357200@cpapostolichub.org
SUMMARY:Eden Journey Deliverance Training- sign up & cost required
DESCRIPTION:This is a 3 day training for all those wanting to learn how to do deliverance. It will be a Rhema Trayner facilitated video series. The cost is $50. for more information and to register\, please email Sherrie at cpapostilichub@gmail.com
URL:https://cpapostolichub.org/event/eden-journey-deliverance-training-sign-up-cost-required/
LOCATION:Convergence Point\, 4216 S Hocker Ave\,\, MO\, Independence\, MO\, 64055\, United States
CATEGORIES:Special Event
END:VEVENT
BEGIN:VEVENT
DTSTART;TZID=UTC:20250131T183000
DTEND;TZID=UTC:20250131T210000
DTSTAMP:20260425T134947
CREATED:20250116T183825Z
LAST-MODIFIED:20250116T185448Z
UID:24105-1738348200-1738357200@cpapostolichub.org
SUMMARY:Eden Journey Deliverance Training- sign up & cost required
DESCRIPTION:This is a 3 day training for all those wanting to learn how to do deliverance. It will be a Rhema Trayner facilitated video series. The cost is $50. for more information and to register\, please email Sherrie at cpapostilichub@gmail.com
URL:https://cpapostolichub.org/event/eden-journey-deliverance-training-sign-up-cost-required/
LOCATION:Convergence Point\, 4216 S Hocker Ave\,\, MO\, Independence\, MO\, 64055\, United States
CATEGORIES:Special Event
END:VEVENT
BEGIN:VEVENT
DTSTART;TZID=UTC:20250131T183000
DTEND;TZID=UTC:20250131T210000
DTSTAMP:20260425T134947
CREATED:20250116T183825Z
LAST-MODIFIED:20250116T185448Z
UID:24105-1738348200-1738357200@cpapostolichub.org
SUMMARY:Eden Journey Deliverance Training- sign up & cost required
DESCRIPTION:This is a 3 day training for all those wanting to learn how to do deliverance. It will be a Rhema Trayner facilitated video series. The cost is $50. for more information and to register\, please email Sherrie at cpapostilichub@gmail.com
URL:https://cpapostolichub.org/event/eden-journey-deliverance-training-sign-up-cost-required/
LOCATION:Convergence Point\, 4216 S Hocker Ave\,\, MO\, Independence\, MO\, 64055\, United States
CATEGORIES:Special Event
END:VEVENT
BEGIN:VEVENT
DTSTART;TZID=UTC:20250131T183000
DTEND;TZID=UTC:20250131T210000
DTSTAMP:20260425T134947
CREATED:20250116T183825Z
LAST-MODIFIED:20250116T185448Z
UID:24105-1738348200-1738357200@cpapostolichub.org
SUMMARY:Eden Journey Deliverance Training- sign up & cost required
DESCRIPTION:This is a 3 day training for all those wanting to learn how to do deliverance. It will be a Rhema Trayner facilitated video series. The cost is $50. for more information and to register\, please email Sherrie at cpapostilichub@gmail.com
URL:https://cpapostolichub.org/event/eden-journey-deliverance-training-sign-up-cost-required/
LOCATION:Convergence Point\, 4216 S Hocker Ave\,\, MO\, Independence\, MO\, 64055\, United States
CATEGORIES:Special Event
END:VEVENT
BEGIN:VEVENT
DTSTART;TZID=UTC:20250119T133000
DTEND;TZID=UTC:20250119T153000
DTSTAMP:20260425T134947
CREATED:20250116T185835Z
LAST-MODIFIED:20250116T185837Z
UID:24115-1737293400-1737300600@cpapostolichub.org
SUMMARY:Sunday Service
DESCRIPTION:We are not your typical church. As a matter of fact\, we do not even call ourselves a church. We are an Apostolic 5- Fold equipping and training center. We live cast from Facebook every Sunday unless we are having something special that we don’t cast.  Go to our Facebook page to see who will be speaking each Sunday!   FB Convergence Point \nWe are a: \n\nHouse of Prayer\nEquipping Center\nHealing Center\nMissions Base\n7 Mountain Coop\n\nIf you are looking to effectively carry out the mandate of the gospel\, which Jesus presented in Matthew 10:8 “Heal the sick\, raise the dead\, cure those with leprosy\, and cast out demons. Give as freely as you have received” then you have come to the right place?  Not sure? You are welcome any time to come and find out! \n  \n 
URL:https://cpapostolichub.org/event/sunday-service-3/
LOCATION:Convergence Point\, 4216 S Hocker Ave\,\, MO\, Independence\, MO\, 64055\, United States
CATEGORIES:Service
END:VEVENT
BEGIN:VEVENT
DTSTART;TZID=UTC:20250119T133000
DTEND;TZID=UTC:20250119T153000
DTSTAMP:20260425T134947
CREATED:20250116T185835Z
LAST-MODIFIED:20250116T185837Z
UID:24115-1737293400-1737300600@cpapostolichub.org
SUMMARY:Sunday Service
DESCRIPTION:We are not your typical church. As a matter of fact\, we do not even call ourselves a church. We are an Apostolic 5- Fold equipping and training center. We live cast from Facebook every Sunday unless we are having something special that we don’t cast.  Go to our Facebook page to see who will be speaking each Sunday!   FB Convergence Point \nWe are a: \n\nHouse of Prayer\nEquipping Center\nHealing Center\nMissions Base\n7 Mountain Coop\n\nIf you are looking to effectively carry out the mandate of the gospel\, which Jesus presented in Matthew 10:8 “Heal the sick\, raise the dead\, cure those with leprosy\, and cast out demons. Give as freely as you have received” then you have come to the right place?  Not sure? You are welcome any time to come and find out! \n  \n 
URL:https://cpapostolichub.org/event/sunday-service-3/
LOCATION:Convergence Point\, 4216 S Hocker Ave\,\, MO\, Independence\, MO\, 64055\, United States
CATEGORIES:Service
END:VEVENT
BEGIN:VEVENT
DTSTART;VALUE=DATE:20250221
DTEND;VALUE=DATE:20250224
DTSTAMP:20260425T134947
CREATED:20250116T195437Z
LAST-MODIFIED:20250116T201324Z
UID:24150-1740096000-1740355199@cpapostolichub.org
SUMMARY:Warrior Women's Retreat Cost $125 Registration required! Only 40 spaces
DESCRIPTION:WARRIOR  WOMEN’S RETREAT! Feb 21-23 \nIn the beautiful Ozarks! \nREGISTRATION OPEN! \nCost: $125 (includes 6 meals & shared lodging) \nThis retreat is packed with fiery speakers who will challenge and motivate you to step into your God-given destiny. You’ll hear from women who have overcome incredible obstacles and who are living out their faith in bold and courageous ways. Their stories will inspire you to become a warrior of faith\, to take risks\, and to live life to the fullest. You’ll also have the opportunity to connect with other like-minded women who are passionate about their faith. You’ll make new friends and be encouraged by the community of women around you. \nTo register please contact Sherrie at cpapostolichub@gmail.com
URL:https://cpapostolichub.org/event/warrior-womens-retreat-cost-125-registration-required-only-40-spaces/
LOCATION:Convergence Point\, 4216 S Hocker Ave\,\, MO\, Independence\, MO\, 64055\, United States
CATEGORIES:Special Event
END:VEVENT
BEGIN:VEVENT
DTSTART;TZID=UTC:20250119T133000
DTEND;TZID=UTC:20250119T153000
DTSTAMP:20260425T134947
CREATED:20250116T185835Z
LAST-MODIFIED:20250116T185837Z
UID:24115-1737293400-1737300600@cpapostolichub.org
SUMMARY:Sunday Service
DESCRIPTION:We are not your typical church. As a matter of fact\, we do not even call ourselves a church. We are an Apostolic 5- Fold equipping and training center. We live cast from Facebook every Sunday unless we are having something special that we don’t cast.  Go to our Facebook page to see who will be speaking each Sunday!   FB Convergence Point \nWe are a: \n\nHouse of Prayer\nEquipping Center\nHealing Center\nMissions Base\n7 Mountain Coop\n\nIf you are looking to effectively carry out the mandate of the gospel\, which Jesus presented in Matthew 10:8 “Heal the sick\, raise the dead\, cure those with leprosy\, and cast out demons. Give as freely as you have received” then you have come to the right place?  Not sure? You are welcome any time to come and find out! \n  \n 
URL:https://cpapostolichub.org/event/sunday-service-3/
LOCATION:Convergence Point\, 4216 S Hocker Ave\,\, MO\, Independence\, MO\, 64055\, United States
CATEGORIES:Service
END:VEVENT
BEGIN:VEVENT
DTSTART;VALUE=DATE:20250224
DTEND;VALUE=DATE:20250307
DTSTAMP:20260425T134947
CREATED:20250116T200710Z
LAST-MODIFIED:20250227T200420Z
UID:24152-1740355200-1741305599@cpapostolichub.org
SUMMARY:India Team departs 2-24 Thru 3-10
DESCRIPTION:We have a teams going to several places throughout the year. If you would like to donate towards out missions\, please use the following portals: \nVenmo: @beyondmyborders \nPayPal: @beyondmyborders \nZelle: Beyond My Borders  \nor on our website: http://www. beyondmyborders.org
URL:https://cpapostolichub.org/event/india-team-departs-2-28-thru-3-10/
LOCATION:Convergence Point\, 4216 S Hocker Ave\,\, MO\, Independence\, MO\, 64055\, United States
CATEGORIES:Missions
END:VEVENT
BEGIN:VEVENT
DTSTART;TZID=UTC:20250129T180000
DTEND;TZID=UTC:20250129T200000
DTSTAMP:20260425T134947
CREATED:20241105T170650Z
LAST-MODIFIED:20250116T182628Z
UID:23876-1738173600-1738180800@cpapostolichub.org
SUMMARY:RTRKC  Women's Rally
DESCRIPTION:Gather\, Equip\, Release is what Release the Runners KC is all about. We meet the last Wednesday evening of every month\, 6pm at Convergence Point Apostolic Hub. 4216 Hocker Drive\, Independence\, MO 64055
URL:https://cpapostolichub.org/event/rtrkc-monthly-womens-rally/
LOCATION:Convergence Point\, 4216 S Hocker Ave\,\, MO\, Independence\, MO\, 64055\, United States
CATEGORIES:Bible Study
END:VEVENT
BEGIN:VEVENT
DTSTART;TZID=UTC:20250227T183000
DTEND;TZID=UTC:20250227T203000
DTSTAMP:20260425T134947
CREATED:20250227T183612Z
LAST-MODIFIED:20250227T183613Z
UID:24242-1740681000-1740688200@cpapostolichub.org
SUMMARY:HUB SCHOOL- 201 class- 7 Mountain Mandate
DESCRIPTION:Hub School is a ministry extension of Convergence Point Apostolic Hub. This is a non- denominational\, spirit-filled Bible &  5-Fold Ministry Training school. For On-line classes and more information go to http://www.cpapostolichub.org \n  \n7  Mountain Mandate 201 class taught by Rich Ritter \nThere are 4 sessions a month for each class offered. All Hub school classes are on Thursday evenings at 6:30pm. Classes are also published live on Facebook.                         FB convergence Point
URL:https://cpapostolichub.org/event/no-hub-school-2-2/
LOCATION:Convergence Point\, 4216 S Hocker Ave\,\, MO\, Independence\, MO\, 64055\, United States
CATEGORIES:Hub School Class
END:VEVENT
BEGIN:VEVENT
DTSTART;TZID=UTC:20250302T133000
DTEND;TZID=UTC:20250302T153000
DTSTAMP:20260425T134947
CREATED:20250227T192633Z
LAST-MODIFIED:20250227T192633Z
UID:24251-1740922200-1740929400@cpapostolichub.org
SUMMARY:Building Kingdom Relationships Jonathan & Mandi Windsor
DESCRIPTION:
URL:https://cpapostolichub.org/event/building-kingdom-relationships-jonathan-mandi-windsor/
LOCATION:Convergence Point\, 4216 S Hocker Ave\,\, MO\, Independence\, MO\, 64055\, United States
CATEGORIES:Service
END:VEVENT
BEGIN:VEVENT
DTSTART;TZID=UTC:20250302T133000
DTEND;TZID=UTC:20250302T153000
DTSTAMP:20260425T134947
CREATED:20250227T193551Z
LAST-MODIFIED:20250306T170301Z
UID:24258-1740922200-1740929400@cpapostolichub.org
SUMMARY:Sunday Service
DESCRIPTION:We are not your typical church. As a matter of fact\, we do not even call ourselves a church. We are an Apostolic 5- Fold equipping and training center. We live cast from Facebook every Sunday unless we are having something special that we don’t cast.  Go to our Facebook page to see who will be speaking each Sunday!   FB Convergence Point \nWe are a: \n\nHouse of Prayer\nEquipping Center\nHealing Center\nMissions Base\n7 Mountain Coop\n\nIf you are looking to effectively carry out the mandate of the gospel\, which Jesus presented in Matthew 10:8 “Heal the sick\, raise the dead\, cure those with leprosy\, and cast out demons. Give as freely as you have received” then you have come to the right place?  Not sure? You are welcome any time to come and find out! \n  \n 
URL:https://cpapostolichub.org/event/sunday-service-3-2/
LOCATION:Convergence Point\, 4216 S Hocker Ave\,\, MO\, Independence\, MO\, 64055\, United States
CATEGORIES:Service
END:VEVENT
BEGIN:VEVENT
DTSTART;TZID=UTC:20250304T183000
DTEND;TZID=UTC:20250304T200000
DTSTAMP:20260425T134947
CREATED:20250227T191944Z
LAST-MODIFIED:20250227T191944Z
UID:24248-1741113000-1741118400@cpapostolichub.org
SUMMARY:Corporate Prophetic Intercession
DESCRIPTION:A time of prayer to decree and declare what the Lord is saying bringing “on earth as it is in heaven” !
URL:https://cpapostolichub.org/event/corporate-prophetic-intercession/
LOCATION:Convergence Point\, 4216 S Hocker Ave\,\, MO\, Independence\, MO\, 64055\, United States
CATEGORIES:Prayer
END:VEVENT
BEGIN:VEVENT
DTSTART;TZID=UTC:20250306T183000
DTEND;TZID=UTC:20250306T203000
DTSTAMP:20260425T134947
CREATED:20250227T191136Z
LAST-MODIFIED:20250227T191136Z
UID:24245-1741285800-1741293000@cpapostolichub.org
SUMMARY:Hub School 201 class-Crisis Intercession
DESCRIPTION:This is a 4 week class during the month of March. Taught by Jess Gjerstad
URL:https://cpapostolichub.org/event/hub-school-201-class-crisis-intercession/
LOCATION:Convergence Point\, 4216 S Hocker Ave\,\, MO\, Independence\, MO\, 64055\, United States
CATEGORIES:Hub School Class
END:VEVENT
BEGIN:VEVENT
DTSTART;TZID=UTC:20250302T133000
DTEND;TZID=UTC:20250302T153000
DTSTAMP:20260425T134947
CREATED:20250227T192633Z
LAST-MODIFIED:20250227T192633Z
UID:24251-1740922200-1740929400@cpapostolichub.org
SUMMARY:Building Kingdom Relationships Jonathan & Mandi Windsor
DESCRIPTION:
URL:https://cpapostolichub.org/event/building-kingdom-relationships-jonathan-mandi-windsor/
LOCATION:Convergence Point\, 4216 S Hocker Ave\,\, MO\, Independence\, MO\, 64055\, United States
CATEGORIES:Service
END:VEVENT
BEGIN:VEVENT
DTSTART;TZID=UTC:20250302T133000
DTEND;TZID=UTC:20250302T153000
DTSTAMP:20260425T134947
CREATED:20250227T193551Z
LAST-MODIFIED:20250306T170301Z
UID:24258-1740922200-1740929400@cpapostolichub.org
SUMMARY:Sunday Service
DESCRIPTION:We are not your typical church. As a matter of fact\, we do not even call ourselves a church. We are an Apostolic 5- Fold equipping and training center. We live cast from Facebook every Sunday unless we are having something special that we don’t cast.  Go to our Facebook page to see who will be speaking each Sunday!   FB Convergence Point \nWe are a: \n\nHouse of Prayer\nEquipping Center\nHealing Center\nMissions Base\n7 Mountain Coop\n\nIf you are looking to effectively carry out the mandate of the gospel\, which Jesus presented in Matthew 10:8 “Heal the sick\, raise the dead\, cure those with leprosy\, and cast out demons. Give as freely as you have received” then you have come to the right place?  Not sure? You are welcome any time to come and find out! \n  \n 
URL:https://cpapostolichub.org/event/sunday-service-3-2/
LOCATION:Convergence Point\, 4216 S Hocker Ave\,\, MO\, Independence\, MO\, 64055\, United States
CATEGORIES:Service
END:VEVENT
BEGIN:VEVENT
DTSTART;TZID=UTC:20250304T183000
DTEND;TZID=UTC:20250304T200000
DTSTAMP:20260425T134947
CREATED:20250227T191944Z
LAST-MODIFIED:20250227T191944Z
UID:24248-1741113000-1741118400@cpapostolichub.org
SUMMARY:Corporate Prophetic Intercession
DESCRIPTION:A time of prayer to decree and declare what the Lord is saying bringing “on earth as it is in heaven” !
URL:https://cpapostolichub.org/event/corporate-prophetic-intercession/
LOCATION:Convergence Point\, 4216 S Hocker Ave\,\, MO\, Independence\, MO\, 64055\, United States
CATEGORIES:Prayer
END:VEVENT
END:VCALENDAR