BEGIN:VCALENDAR
VERSION:2.0
PRODID:-//Convergence Point Apostolic Hub - ECPv6.15.20//NONSGML v1.0//EN
CALSCALE:GREGORIAN
METHOD:PUBLISH
X-WR-CALNAME:Convergence Point Apostolic Hub
X-ORIGINAL-URL:https://cpapostolichub.org
X-WR-CALDESC:Events for Convergence Point Apostolic Hub
REFRESH-INTERVAL;VALUE=DURATION:PT1H
X-Robots-Tag:noindex
X-PUBLISHED-TTL:PT1H
BEGIN:VTIMEZONE
TZID:UTC
BEGIN:STANDARD
TZOFFSETFROM:+0000
TZOFFSETTO:+0000
TZNAME:UTC
DTSTART:20240101T000000
END:STANDARD
END:VTIMEZONE
BEGIN:VEVENT
DTSTART;VALUE=DATE:20250224
DTEND;VALUE=DATE:20250307
DTSTAMP:20260424T170815
CREATED:20250116T200710Z
LAST-MODIFIED:20250227T200420Z
UID:24152-1740355200-1741305599@cpapostolichub.org
SUMMARY:India Team departs 2-24 Thru 3-10
DESCRIPTION:We have a teams going to several places throughout the year. If you would like to donate towards out missions\, please use the following portals: \nVenmo: @beyondmyborders \nPayPal: @beyondmyborders \nZelle: Beyond My Borders  \nor on our website: http://www. beyondmyborders.org
URL:https://cpapostolichub.org/event/india-team-departs-2-28-thru-3-10/
LOCATION:Convergence Point\, 4216 S Hocker Ave\,\, MO\, Independence\, MO\, 64055\, United States
CATEGORIES:Missions
END:VEVENT
BEGIN:VEVENT
DTSTART;TZID=UTC:20250302T133000
DTEND;TZID=UTC:20250302T153000
DTSTAMP:20260424T170815
CREATED:20250227T192633Z
LAST-MODIFIED:20250227T192633Z
UID:24251-1740922200-1740929400@cpapostolichub.org
SUMMARY:Building Kingdom Relationships Jonathan & Mandi Windsor
DESCRIPTION:
URL:https://cpapostolichub.org/event/building-kingdom-relationships-jonathan-mandi-windsor/
LOCATION:Convergence Point\, 4216 S Hocker Ave\,\, MO\, Independence\, MO\, 64055\, United States
CATEGORIES:Service
END:VEVENT
BEGIN:VEVENT
DTSTART;TZID=UTC:20250302T133000
DTEND;TZID=UTC:20250302T153000
DTSTAMP:20260424T170815
CREATED:20250227T193551Z
LAST-MODIFIED:20250306T170301Z
UID:24258-1740922200-1740929400@cpapostolichub.org
SUMMARY:Sunday Service
DESCRIPTION:We are not your typical church. As a matter of fact\, we do not even call ourselves a church. We are an Apostolic 5- Fold equipping and training center. We live cast from Facebook every Sunday unless we are having something special that we don’t cast.  Go to our Facebook page to see who will be speaking each Sunday!   FB Convergence Point \nWe are a: \n\nHouse of Prayer\nEquipping Center\nHealing Center\nMissions Base\n7 Mountain Coop\n\nIf you are looking to effectively carry out the mandate of the gospel\, which Jesus presented in Matthew 10:8 “Heal the sick\, raise the dead\, cure those with leprosy\, and cast out demons. Give as freely as you have received” then you have come to the right place?  Not sure? You are welcome any time to come and find out! \n  \n 
URL:https://cpapostolichub.org/event/sunday-service-3-2/
LOCATION:Convergence Point\, 4216 S Hocker Ave\,\, MO\, Independence\, MO\, 64055\, United States
CATEGORIES:Service
END:VEVENT
BEGIN:VEVENT
DTSTART;TZID=UTC:20250304T183000
DTEND;TZID=UTC:20250304T200000
DTSTAMP:20260424T170815
CREATED:20250227T191944Z
LAST-MODIFIED:20250227T191944Z
UID:24248-1741113000-1741118400@cpapostolichub.org
SUMMARY:Corporate Prophetic Intercession
DESCRIPTION:A time of prayer to decree and declare what the Lord is saying bringing “on earth as it is in heaven” !
URL:https://cpapostolichub.org/event/corporate-prophetic-intercession/
LOCATION:Convergence Point\, 4216 S Hocker Ave\,\, MO\, Independence\, MO\, 64055\, United States
CATEGORIES:Prayer
END:VEVENT
BEGIN:VEVENT
DTSTART;TZID=UTC:20250306T183000
DTEND;TZID=UTC:20250306T203000
DTSTAMP:20260424T170815
CREATED:20250227T191136Z
LAST-MODIFIED:20250227T191136Z
UID:24245-1741285800-1741293000@cpapostolichub.org
SUMMARY:Hub School 201 class-Crisis Intercession
DESCRIPTION:This is a 4 week class during the month of March. Taught by Jess Gjerstad
URL:https://cpapostolichub.org/event/hub-school-201-class-crisis-intercession/
LOCATION:Convergence Point\, 4216 S Hocker Ave\,\, MO\, Independence\, MO\, 64055\, United States
CATEGORIES:Hub School Class
END:VEVENT
BEGIN:VEVENT
DTSTART;TZID=UTC:20250302T133000
DTEND;TZID=UTC:20250302T153000
DTSTAMP:20260424T170815
CREATED:20250227T192633Z
LAST-MODIFIED:20250227T192633Z
UID:24251-1740922200-1740929400@cpapostolichub.org
SUMMARY:Building Kingdom Relationships Jonathan & Mandi Windsor
DESCRIPTION:
URL:https://cpapostolichub.org/event/building-kingdom-relationships-jonathan-mandi-windsor/
LOCATION:Convergence Point\, 4216 S Hocker Ave\,\, MO\, Independence\, MO\, 64055\, United States
CATEGORIES:Service
END:VEVENT
BEGIN:VEVENT
DTSTART;TZID=UTC:20250302T133000
DTEND;TZID=UTC:20250302T153000
DTSTAMP:20260424T170815
CREATED:20250227T193551Z
LAST-MODIFIED:20250306T170301Z
UID:24258-1740922200-1740929400@cpapostolichub.org
SUMMARY:Sunday Service
DESCRIPTION:We are not your typical church. As a matter of fact\, we do not even call ourselves a church. We are an Apostolic 5- Fold equipping and training center. We live cast from Facebook every Sunday unless we are having something special that we don’t cast.  Go to our Facebook page to see who will be speaking each Sunday!   FB Convergence Point \nWe are a: \n\nHouse of Prayer\nEquipping Center\nHealing Center\nMissions Base\n7 Mountain Coop\n\nIf you are looking to effectively carry out the mandate of the gospel\, which Jesus presented in Matthew 10:8 “Heal the sick\, raise the dead\, cure those with leprosy\, and cast out demons. Give as freely as you have received” then you have come to the right place?  Not sure? You are welcome any time to come and find out! \n  \n 
URL:https://cpapostolichub.org/event/sunday-service-3-2/
LOCATION:Convergence Point\, 4216 S Hocker Ave\,\, MO\, Independence\, MO\, 64055\, United States
CATEGORIES:Service
END:VEVENT
BEGIN:VEVENT
DTSTART;TZID=UTC:20250304T183000
DTEND;TZID=UTC:20250304T200000
DTSTAMP:20260424T170815
CREATED:20250227T191944Z
LAST-MODIFIED:20250227T191944Z
UID:24248-1741113000-1741118400@cpapostolichub.org
SUMMARY:Corporate Prophetic Intercession
DESCRIPTION:A time of prayer to decree and declare what the Lord is saying bringing “on earth as it is in heaven” !
URL:https://cpapostolichub.org/event/corporate-prophetic-intercession/
LOCATION:Convergence Point\, 4216 S Hocker Ave\,\, MO\, Independence\, MO\, 64055\, United States
CATEGORIES:Prayer
END:VEVENT
BEGIN:VEVENT
DTSTART;TZID=UTC:20250312T183000
DTEND;TZID=UTC:20250312T210000
DTSTAMP:20260424T170815
CREATED:20250116T184905Z
LAST-MODIFIED:20250227T190340Z
UID:24113-1741804200-1741813200@cpapostolichub.org
SUMMARY:Leadership Monthly Meeting - zoom
DESCRIPTION:
URL:https://cpapostolichub.org/event/leadership-monthly-meeting-wilcutts/
LOCATION:Convergence Point\, 4216 S Hocker Ave\,\, MO\, Independence\, MO\, 64055\, United States
CATEGORIES:Leadership
END:VEVENT
BEGIN:VEVENT
DTSTART;TZID=UTC:20250306T183000
DTEND;TZID=UTC:20250306T203000
DTSTAMP:20260424T170815
CREATED:20250227T191136Z
LAST-MODIFIED:20250227T191136Z
UID:24245-1741285800-1741293000@cpapostolichub.org
SUMMARY:Hub School 201 class-Crisis Intercession
DESCRIPTION:This is a 4 week class during the month of March. Taught by Jess Gjerstad
URL:https://cpapostolichub.org/event/hub-school-201-class-crisis-intercession/
LOCATION:Convergence Point\, 4216 S Hocker Ave\,\, MO\, Independence\, MO\, 64055\, United States
CATEGORIES:Hub School Class
END:VEVENT
BEGIN:VEVENT
DTSTART;TZID=UTC:20250316T133000
DTEND;TZID=UTC:20250316T153000
DTSTAMP:20260424T170815
CREATED:20250227T193020Z
LAST-MODIFIED:20250227T193020Z
UID:24254-1742131800-1742139000@cpapostolichub.org
SUMMARY:Mission Sunday India Team
DESCRIPTION:Our team is back from India! Come here their testimonies filled with fire!
URL:https://cpapostolichub.org/event/mission-sunday-india-team/
LOCATION:Convergence Point\, 4216 S Hocker Ave\,\, MO\, Independence\, MO\, 64055\, United States
CATEGORIES:Service
END:VEVENT
BEGIN:VEVENT
DTSTART;TZID=UTC:20250302T133000
DTEND;TZID=UTC:20250302T153000
DTSTAMP:20260424T170815
CREATED:20250227T193551Z
LAST-MODIFIED:20250306T170301Z
UID:24258-1740922200-1740929400@cpapostolichub.org
SUMMARY:Sunday Service
DESCRIPTION:We are not your typical church. As a matter of fact\, we do not even call ourselves a church. We are an Apostolic 5- Fold equipping and training center. We live cast from Facebook every Sunday unless we are having something special that we don’t cast.  Go to our Facebook page to see who will be speaking each Sunday!   FB Convergence Point \nWe are a: \n\nHouse of Prayer\nEquipping Center\nHealing Center\nMissions Base\n7 Mountain Coop\n\nIf you are looking to effectively carry out the mandate of the gospel\, which Jesus presented in Matthew 10:8 “Heal the sick\, raise the dead\, cure those with leprosy\, and cast out demons. Give as freely as you have received” then you have come to the right place?  Not sure? You are welcome any time to come and find out! \n  \n 
URL:https://cpapostolichub.org/event/sunday-service-3-2/
LOCATION:Convergence Point\, 4216 S Hocker Ave\,\, MO\, Independence\, MO\, 64055\, United States
CATEGORIES:Service
END:VEVENT
BEGIN:VEVENT
DTSTART;TZID=UTC:20250304T183000
DTEND;TZID=UTC:20250304T200000
DTSTAMP:20260424T170815
CREATED:20250227T191944Z
LAST-MODIFIED:20250227T191944Z
UID:24248-1741113000-1741118400@cpapostolichub.org
SUMMARY:Corporate Prophetic Intercession
DESCRIPTION:A time of prayer to decree and declare what the Lord is saying bringing “on earth as it is in heaven” !
URL:https://cpapostolichub.org/event/corporate-prophetic-intercession/
LOCATION:Convergence Point\, 4216 S Hocker Ave\,\, MO\, Independence\, MO\, 64055\, United States
CATEGORIES:Prayer
END:VEVENT
BEGIN:VEVENT
DTSTART;TZID=UTC:20250306T183000
DTEND;TZID=UTC:20250306T203000
DTSTAMP:20260424T170815
CREATED:20250227T191136Z
LAST-MODIFIED:20250227T191136Z
UID:24245-1741285800-1741293000@cpapostolichub.org
SUMMARY:Hub School 201 class-Crisis Intercession
DESCRIPTION:This is a 4 week class during the month of March. Taught by Jess Gjerstad
URL:https://cpapostolichub.org/event/hub-school-201-class-crisis-intercession/
LOCATION:Convergence Point\, 4216 S Hocker Ave\,\, MO\, Independence\, MO\, 64055\, United States
CATEGORIES:Hub School Class
END:VEVENT
BEGIN:VEVENT
DTSTART;TZID=UTC:20250321T120000
DTEND;TZID=UTC:20250321T140000
DTSTAMP:20260424T170815
CREATED:20250227T194456Z
LAST-MODIFIED:20250227T194456Z
UID:24260-1742558400-1742565600@cpapostolichub.org
SUMMARY:Pioneer Conference Leaders Arising Luncheon-SOLD OUT
DESCRIPTION:Pioneer Conference is a 2 day 3 event venue. The luncheon is Sold out but the other events are still open\, limited seating available.  Go to Event Brite for tickets.
URL:https://cpapostolichub.org/event/pioneer-conference-leaders-arising-luncheon-sold-out/
LOCATION:Convergence Point\, 4216 S Hocker Ave\,\, MO\, Independence\, MO\, 64055\, United States
CATEGORIES:Conference
END:VEVENT
BEGIN:VEVENT
DTSTART;TZID=UTC:20250321T183000
DTEND;TZID=UTC:20250321T210000
DTSTAMP:20260424T170815
CREATED:20250227T195054Z
LAST-MODIFIED:20250320T163104Z
UID:24262-1742581800-1742590800@cpapostolichub.org
SUMMARY:Pioneer Conference w/ Apostle Rhema Trayner
DESCRIPTION:Bloodline Deliverance session this evening at: 6:30PM \nHilton garden Inn \n19677 E. Jackson Fr. \nIndependence \nTICKETS AVAILABLE ON EVENBRITE!
URL:https://cpapostolichub.org/event/pioneer-conference-w-apostle-rhema-trayner/
LOCATION:Convergence Point\, 4216 S Hocker Ave\,\, MO\, Independence\, MO\, 64055\, United States
CATEGORIES:Conference
END:VEVENT
BEGIN:VEVENT
DTSTART;TZID=UTC:20250322T090000
DTEND;TZID=UTC:20250322T210000
DTSTAMP:20260424T170815
CREATED:20250227T200003Z
LAST-MODIFIED:20250227T200204Z
UID:24264-1742634000-1742677200@cpapostolichub.org
SUMMARY:Pioneer Conference at Uptown Market-Apostle Rhema Trayner- 3 sessions
DESCRIPTION:Uptown Market \n211 W Truman Rd \nIndependence\, MO \n  \n9am: Morning session \nNoon: Lunch \n1pm: Afternoon session \n4pm: Dinner break \n6:30pm: Evening session \nTickets available at Eventbrite.
URL:https://cpapostolichub.org/event/pioneer-conference-at-uptown-market-apostle-rhema-trayner-3-sessions/
LOCATION:211 W. Truman Rd. Independence\, MO\, United States
CATEGORIES:Conference
END:VEVENT
BEGIN:VEVENT
DTSTART;TZID=UTC:20250304T183000
DTEND;TZID=UTC:20250304T200000
DTSTAMP:20260424T170815
CREATED:20250227T191944Z
LAST-MODIFIED:20250227T191944Z
UID:24248-1741113000-1741118400@cpapostolichub.org
SUMMARY:Corporate Prophetic Intercession
DESCRIPTION:A time of prayer to decree and declare what the Lord is saying bringing “on earth as it is in heaven” !
URL:https://cpapostolichub.org/event/corporate-prophetic-intercession/
LOCATION:Convergence Point\, 4216 S Hocker Ave\,\, MO\, Independence\, MO\, 64055\, United States
CATEGORIES:Prayer
END:VEVENT
BEGIN:VEVENT
DTSTART;TZID=UTC:20250129T180000
DTEND;TZID=UTC:20250129T200000
DTSTAMP:20260424T170815
CREATED:20241105T170650Z
LAST-MODIFIED:20250116T182628Z
UID:23876-1738173600-1738180800@cpapostolichub.org
SUMMARY:RTRKC  Women's Rally
DESCRIPTION:Gather\, Equip\, Release is what Release the Runners KC is all about. We meet the last Wednesday evening of every month\, 6pm at Convergence Point Apostolic Hub. 4216 Hocker Drive\, Independence\, MO 64055
URL:https://cpapostolichub.org/event/rtrkc-monthly-womens-rally/
LOCATION:Convergence Point\, 4216 S Hocker Ave\,\, MO\, Independence\, MO\, 64055\, United States
CATEGORIES:Bible Study
END:VEVENT
BEGIN:VEVENT
DTSTART;TZID=UTC:20250306T183000
DTEND;TZID=UTC:20250306T203000
DTSTAMP:20260424T170815
CREATED:20250227T191136Z
LAST-MODIFIED:20250227T191136Z
UID:24245-1741285800-1741293000@cpapostolichub.org
SUMMARY:Hub School 201 class-Crisis Intercession
DESCRIPTION:This is a 4 week class during the month of March. Taught by Jess Gjerstad
URL:https://cpapostolichub.org/event/hub-school-201-class-crisis-intercession/
LOCATION:Convergence Point\, 4216 S Hocker Ave\,\, MO\, Independence\, MO\, 64055\, United States
CATEGORIES:Hub School Class
END:VEVENT
BEGIN:VEVENT
DTSTART;TZID=UTC:20250302T133000
DTEND;TZID=UTC:20250302T153000
DTSTAMP:20260424T170815
CREATED:20250227T193551Z
LAST-MODIFIED:20250306T170301Z
UID:24258-1740922200-1740929400@cpapostolichub.org
SUMMARY:Sunday Service
DESCRIPTION:We are not your typical church. As a matter of fact\, we do not even call ourselves a church. We are an Apostolic 5- Fold equipping and training center. We live cast from Facebook every Sunday unless we are having something special that we don’t cast.  Go to our Facebook page to see who will be speaking each Sunday!   FB Convergence Point \nWe are a: \n\nHouse of Prayer\nEquipping Center\nHealing Center\nMissions Base\n7 Mountain Coop\n\nIf you are looking to effectively carry out the mandate of the gospel\, which Jesus presented in Matthew 10:8 “Heal the sick\, raise the dead\, cure those with leprosy\, and cast out demons. Give as freely as you have received” then you have come to the right place?  Not sure? You are welcome any time to come and find out! \n  \n 
URL:https://cpapostolichub.org/event/sunday-service-3-2/
LOCATION:Convergence Point\, 4216 S Hocker Ave\,\, MO\, Independence\, MO\, 64055\, United States
CATEGORIES:Service
END:VEVENT
END:VCALENDAR